BEGIN:VCALENDAR
PRODID:-//github.com/rianjs/ical.net//NONSGML ical.net 4.0//EN
VERSION:2.0
BEGIN:VEVENT
DESCRIPTION:Start in Altusried\; über den Freizeitpark und hügelige Landsc
 haften\, zum Bürgerbahnhof (Mittagsrast) das Schloss und der Flugplatz fo
 lgen bevor wir beim Lebensmittelhersteller Kaffeepause machen.\nhttps://t
 ouren-termine.adfc.de/radveranstaltung/177992-wurttem-allgau-park-stadt-s
 chloss-ein-marchen
DTEND;VALUE=DATE:20260829
DTSTAMP:20260425T184351Z
DTSTART;VALUE=DATE:20260829
LOCATION:Parkplatz der Freilichtbühne\; Im Tal 87452 Altusried\, 87452 Alt
 usried
SEQUENCE:0
SUMMARY:Württem. Allgäu\, Park\, Stadt\, Schloss\, ein Märchen
UID:c023e115-9ac4-4dba-bd85-c2c8a2b96797
URL:https://touren-termine.adfc.de/radveranstaltung/177992-wurttem-allgau-
 park-stadt-schloss-ein-marchen
END:VEVENT
END:VCALENDAR
