BEGIN:VCALENDAR
PRODID:-//github.com/rianjs/ical.net//NONSGML ical.net 4.0//EN
VERSION:2.0
BEGIN:VEVENT
DESCRIPTION:Beim heutigen Radlertreff kommen wir mit Herrn Josef Neumann -
  designierter SPD-OB Kandidat - ins Gespräch.\nhttps://touren-termine.adf
 c.de/radveranstaltung/156392-radlertreff-solingen-april-mit-j-neumann
DTEND:20250408T190000Z
DTSTAMP:20260421T172809Z
DTSTART:20250408T173000Z
LOCATION:Locher Straße 17\, 42719 Solingen
SEQUENCE:0
SUMMARY:Radlertreff Solingen - April mit J. Neumann
UID:45a01a0e-77cd-4400-8cf8-35cce6749e3f
URL:https://touren-termine.adfc.de/radveranstaltung/156392-radlertreff-sol
 ingen-april-mit-j-neumann
END:VEVENT
END:VCALENDAR
