BEGIN:VCALENDAR
PRODID:-//github.com/rianjs/ical.net//NONSGML ical.net 4.0//EN
VERSION:2.0
BEGIN:VEVENT
DESCRIPTION:Leichte Nachmittagstour von Neustadt/Weinstraße nach Deideshei
 m - mit kleiner "Belohnung"\nhttps://touren-termine.adfc.de/radveranstalt
 ung/110102-nachmittagstour-mir-belohnung-nach-deidesheim
DTEND:20240427T150000Z
DTSTAMP:20260425T173109Z
DTSTART:20240427T120000Z
LOCATION:Festplatzstraße 7\, 67433 Neustadt an der Weinstraße
SEQUENCE:0
SUMMARY:Nachmittagstour mir "Belohnung" nach Deidesheim
UID:84e68baf-5327-439b-9c54-b4683ef51f6e
URL:https://touren-termine.adfc.de/radveranstaltung/110102-nachmittagstour
 -mir-belohnung-nach-deidesheim
END:VEVENT
END:VCALENDAR
