BEGIN:VCALENDAR
PRODID:-//github.com/rianjs/ical.net//NONSGML ical.net 4.0//EN
VERSION:2.0
BEGIN:VEVENT
DESCRIPTION:"Bei uns gibt's was zu meckern" ist das Motto dieser Radltour.
 Kommt mit zum Ziegenhof-Cafe in Richthof.\nhttps://touren-termine.adfc.de
 /radveranstaltung/192108-radtour-zum-ziegenhofcafeinklusionstour
DTEND:20260802T153000Z
DTSTAMP:20260424T232018Z
DTSTART:20260802T110000Z
LOCATION:Parkplatz JURA- Werkstätten Lährer Weg Nr. 109\, 92318 Neumarkt i
 n der Oberpfalzg\, 92318 Neumarkt in der Oberpfalz
SEQUENCE:0
SUMMARY:Radtour zum Ziegenhof-Cafe-Inklusionstour
UID:8997c361-68c2-4d9b-b84b-080b84ea49a5
URL:https://touren-termine.adfc.de/radveranstaltung/192108-radtour-zum-zie
 genhofcafeinklusionstour
END:VEVENT
END:VCALENDAR
