BEGIN:VCALENDAR
PRODID:-//github.com/rianjs/ical.net//NONSGML ical.net 4.0//EN
VERSION:2.0
BEGIN:VEVENT
DESCRIPTION:Alle Mitglieder*innen und interessierte Bürger*innen sind herz
 lich eingeladen.\nBesprochen werden aktuelle Radthemen\, sowie die geplan
 ten Touren.\nhttps://touren-termine.adfc.de/radveranstaltung/180224-treff
 en-der-oranienburger-ortsgruppe
DTEND:20260225T190000Z
DTSTAMP:20260425T200553Z
DTSTART:20260225T170000Z
LOCATION:Altstadtklause\, Havelstr. 16\, 16515 Oranienburg
SEQUENCE:0
SUMMARY:Treffen der Oranienburger Ortsgruppe
UID:cb046dd3-7212-4df1-b62d-6005eeb03fcd
URL:https://touren-termine.adfc.de/radveranstaltung/180224-treffen-der-ora
 nienburger-ortsgruppe
END:VEVENT
END:VCALENDAR
