BEGIN:VCALENDAR
PRODID:-//github.com/rianjs/ical.net//NONSGML ical.net 4.0//EN
VERSION:2.0
BEGIN:VEVENT
DESCRIPTION:Mehr Sicherheit für den Radverkehr durch StVO konforme Seitena
 bstände beim Überholen durch Kraftfahrzeuge\nhttps://touren-termine.adfc.
 de/radveranstaltung/117238-projektgruppe-openbikesensor
DTEND:20240212T190000Z
DTSTAMP:20260420T230514Z
DTSTART:20240212T173000Z
LOCATION:Koppel 34-36\, 20099 Hamburg
SEQUENCE:0
SUMMARY:Projektgruppe OpenBikeSensor
UID:c52f138c-2c67-4ead-9016-f168bc367dc2
URL:https://touren-termine.adfc.de/radveranstaltung/117238-projektgruppe-o
 penbikesensor
END:VEVENT
END:VCALENDAR
