BEGIN:VCALENDAR
PRODID:-//github.com/rianjs/ical.net//NONSGML ical.net 4.0//EN
VERSION:2.0
BEGIN:VEVENT
DESCRIPTION:ADFC-Fahrradcodierung in der Geschäftsstelle\nhttps://touren-t
 ermine.adfc.de/radveranstaltung/145973-fahrradcodierung-adfc-leverkusen
DTEND:20250127T130000Z
DTSTAMP:20260419T155838Z
DTSTART:20250127T100000Z
LOCATION:ADFC-Geschäftsstelle\, Freiherr-vom-Stein-Straße 5a\, 51379 Lever
 kusen
SEQUENCE:0
SUMMARY:Fahrradcodierung ADFC Leverkusen
UID:e750c55c-c556-4bdc-bee7-fc867b7f675a
URL:https://touren-termine.adfc.de/radveranstaltung/145973-fahrradcodierun
 g-adfc-leverkusen
END:VEVENT
END:VCALENDAR
