BEGIN:VCALENDAR
PRODID:-//github.com/rianjs/ical.net//NONSGML ical.net 4.0//EN
VERSION:2.0
BEGIN:VEVENT
DESCRIPTION:Mit dem Pedelec über Dahlbruch nach Herzhausen und dann auf de
 n schönen Radwegen durchs Dreisbachtal. Über Niedersetzen zurück nach Kre
 uztal.\nhttps://touren-termine.adfc.de/radveranstaltung/149648-pedelecfei
 erabendtour-dreisbachtal
DTEND:20250724T183000Z
DTSTAMP:20260422T234318Z
DTSTART:20250724T160000Z
LOCATION:Marburgerstraße\, Roter Platz\, 57223 Kreuztal
SEQUENCE:0
SUMMARY:Pedelec-Feierabendtour Dreisbachtal
UID:9399ae22-a650-4818-97ba-348963353925
URL:https://touren-termine.adfc.de/radveranstaltung/149648-pedelecfeierabe
 ndtour-dreisbachtal
END:VEVENT
END:VCALENDAR
