BEGIN:VCALENDAR
PRODID:-//github.com/rianjs/ical.net//NONSGML ical.net 4.0//EN
VERSION:2.0
BEGIN:VEVENT
DESCRIPTION:Jeden 4. Donnerstag im Monat\, Treffpunkt immer 13:00 Uhr\, im
 mer am Parkplatz am Stadtwald RY\, 30 bis 35 km\, Einkehr\, gemütliches T
 empo um 15 km/h mit Pausen.\nhttps://touren-termine.adfc.de/radveranstalt
 ung/85255-adfcseniorentour
DTEND:20230928T150000Z
DTSTAMP:20260421T023345Z
DTSTART:20230928T110000Z
LOCATION:An der Rheydter Höhe 54\, 41239 Mönchengladbach
SEQUENCE:0
SUMMARY:ADFC-Seniorentour
UID:90dd2fd7-8276-4d8b-8b58-c93f0502bb38
URL:https://touren-termine.adfc.de/radveranstaltung/85255-adfcseniorentour
END:VEVENT
END:VCALENDAR
