BEGIN:VCALENDAR
PRODID:-//github.com/rianjs/ical.net//NONSGML ical.net 4.0//EN
VERSION:2.0
BEGIN:VEVENT
DESCRIPTION:Jeden Mittwoch vom 1.4. bis zum 31.8.2026\nStart 18.oo am Rath
 aus Gbw\, ca 30km\nhttps://touren-termine.adfc.de/radveranstaltung/192745
 -kurztour
DTEND:20260715T180000Z
DTSTAMP:20260423T181958Z
DTSTART:20260715T160000Z
LOCATION:Fuhrberger Straße 4\, 30938 Burgwedel
SEQUENCE:0
SUMMARY:Kurztour
UID:4b15ac70-0e8f-4b59-8e13-95a181e8024b
URL:https://touren-termine.adfc.de/radveranstaltung/192745-kurztour
END:VEVENT
END:VCALENDAR
