BEGIN:VCALENDAR
PRODID:-//github.com/rianjs/ical.net//NONSGML ical.net 4.0//EN
VERSION:2.0
BEGIN:VEVENT
DESCRIPTION:Auf meist ruhigen Wegen fahren wir zur Selbstpflücke von Beere
 n\, Sauerkirschen und Pflaumen. Es darf genascht werden. Nur gesammeltes 
 Obst wird bezahlt. Bitte Gefäße mitbringen. Ende S-Heinersdorf.\nhttps://
 touren-termine.adfc.de/radveranstaltung/74288-beerentour
DTEND:20230805T150000Z
DTSTAMP:20260424T202413Z
DTSTART:20230805T070000Z
LOCATION:S-Bhf. Pankow-Heinersdorf\, Ausgang Pasewalker Straße\, 13187 Ber
 lin
SEQUENCE:0
SUMMARY:Beerentour
UID:90c09b21-ee2e-4d7d-8b47-979c5f58ff90
URL:https://touren-termine.adfc.de/radveranstaltung/74288-beerentour
END:VEVENT
END:VCALENDAR
