BEGIN:VCALENDAR
PRODID:-//github.com/rianjs/ical.net//NONSGML ical.net 4.0//EN
VERSION:2.0
BEGIN:VEVENT
DESCRIPTION:Radlertreff im Glossner Bräustübl\nhttps://touren-termine.adfc
 .de/radveranstaltung/195774-radlertreff
DTEND:20260529T200000Z
DTSTAMP:20260425T020935Z
DTSTART:20260529T170000Z
LOCATION:Glossner Bräustübl\, Schwesterhausgasse 9\, 92318 Neumarkt in der
  Oberpfalz
SEQUENCE:0
SUMMARY:Radlertreff
UID:9c6aad36-e5d9-468e-8c7a-fa97305e5558
URL:https://touren-termine.adfc.de/radveranstaltung/195774-radlertreff
END:VEVENT
END:VCALENDAR
