BEGIN:VCALENDAR
PRODID:-//github.com/rianjs/ical.net//NONSGML ical.net 4.0//EN
VERSION:2.0
BEGIN:VEVENT
DESCRIPTION:Radlertreff im Glossner Bräustübl\nhttps://touren-termine.adfc
 .de/radveranstaltung/169586-radlertreff
DTEND:20250926T200000Z
DTSTAMP:20260425T021420Z
DTSTART:20250926T170000Z
LOCATION:Glossner Bräustübl\, Schwesterhausgasse 9\, 92318 Neumarkt in der
  Oberpfalz
SEQUENCE:0
SUMMARY:Radlertreff
UID:242c61e0-8aba-42fb-b257-7cb415276961
URL:https://touren-termine.adfc.de/radveranstaltung/169586-radlertreff
END:VEVENT
END:VCALENDAR
