BEGIN:VCALENDAR
PRODID:-//github.com/rianjs/ical.net//NONSGML ical.net 4.0//EN
VERSION:2.0
BEGIN:VEVENT
DESCRIPTION:Jeden Montag findet morgens eine Radtour statt.\nhttps://toure
 n-termine.adfc.de/radveranstaltung/166685-montag-morgen-tour
DTEND:20250602T100000Z
DTSTAMP:20260423T201301Z
DTSTART:20250602T080000Z
LOCATION:In der Ahe 29\, 27356 Rotenburg
SEQUENCE:0
SUMMARY:Montag Morgen Tour
UID:a555f18e-7a7f-4f13-8022-95a1d510b17f
URL:https://touren-termine.adfc.de/radveranstaltung/166685-montag-morgen-t
 our
END:VEVENT
END:VCALENDAR
