BEGIN:VCALENDAR
PRODID:-//github.com/rianjs/ical.net//NONSGML ical.net 4.0//EN
VERSION:2.0
BEGIN:VEVENT
DESCRIPTION:Monatlicher Veloplausch im Landkreis Emmendingen und Breisgau-
 Hochschwarzwald. Einfach vorbeikommen!\nhttps://touren-termine.adfc.de/ra
 dveranstaltung/136019-veloplausch-im-landkreis
DTEND:20240911T183000Z
DTSTAMP:20260421T101253Z
DTSTART:20240911T170000Z
LOCATION:Roccafé\, Hauptstraße 134\, 79211 Denzlingen
SEQUENCE:0
SUMMARY:Veloplausch im Landkreis
UID:5b45288a-6932-4565-af90-2f44729f6db2
URL:https://touren-termine.adfc.de/radveranstaltung/136019-veloplausch-im-
 landkreis
END:VEVENT
END:VCALENDAR
