BEGIN:VCALENDAR
PRODID:-//github.com/rianjs/ical.net//NONSGML ical.net 4.0//EN
VERSION:2.0
BEGIN:VEVENT
DESCRIPTION:Eine kurze Tour rund um Wremen\nhttps://touren-termine.adfc.de
 /radveranstaltung/165081-kurze-wremer-runde
DTEND:20250611T160000Z
DTSTAMP:20260421T091111Z
DTSTART:20250611T150000Z
LOCATION:Am Wremer Bahnhof\, 27639 Landkreis Cuxhaven
SEQUENCE:0
SUMMARY:Kurze Wremer Runde
UID:21a06a68-f2bb-47ca-900b-e4b00db7cf3d
URL:https://touren-termine.adfc.de/radveranstaltung/165081-kurze-wremer-ru
 nde
END:VEVENT
END:VCALENDAR
