BEGIN:VCALENDAR
PRODID:-//github.com/rianjs/ical.net//NONSGML ical.net 4.0//EN
VERSION:2.0
BEGIN:VEVENT
DESCRIPTION:Der ADFC Wuppertal / Solingen und OLX35 betreiben einen gemein
 samen Stand zur Verkehrswende. Der ADFC bietet vergünstigte Mitgliedschaf
 ten\, ein Lastenrad kann ausprobiert werden uvm. . .\nhttps://touren-term
 ine.adfc.de/radveranstaltung/128482-aktionsstand-zum-fruhlingserwachen
DTEND:20240407T160000Z
DTSTAMP:20260421T210722Z
DTSTART:20240407T090000Z
LOCATION:Marktplatz Ohligs\, 42697 Solingen
SEQUENCE:0
SUMMARY:Aktionsstand zum Frühlingserwachen
UID:0455199f-1b77-4548-9b4a-2fc92c45743f
URL:https://touren-termine.adfc.de/radveranstaltung/128482-aktionsstand-zu
 m-fruhlingserwachen
END:VEVENT
END:VCALENDAR
