BEGIN:VCALENDAR
PRODID:-//github.com/rianjs/ical.net//NONSGML ical.net 4.0//EN
VERSION:2.0
BEGIN:VEVENT
DESCRIPTION:Radlertreff in entspannter Atmosphäre\nhttps://touren-termine.
 adfc.de/radveranstaltung/114717-afterwork
DTEND:20231220T210000Z
DTSTAMP:20260424T144812Z
DTSTART:20231220T173000Z
LOCATION:Eichstraße 7\, 70173 Stuttgart
SEQUENCE:0
SUMMARY:AfterWork
UID:1b082378-9c0f-447c-a009-20f80a2cc5dc
URL:https://touren-termine.adfc.de/radveranstaltung/114717-afterwork
END:VEVENT
END:VCALENDAR
