BEGIN:VCALENDAR
PRODID:-//github.com/rianjs/ical.net//NONSGML ical.net 4.0//EN
VERSION:2.0
BEGIN:VEVENT
DESCRIPTION:Rauf aufs Rad für eine Spritztour in die Umgebung von Gauting!
 \nWöchentlich wechselnd naturkundliche Touren und Cappuccino-Touren.\nHeu
 te: Zum Urwald in Gauting\nhttps://touren-termine.adfc.de/radveranstaltun
 g/137137-wochentliche-nachmittagstour-in-gauting
DTEND:20240730T143000Z
DTSTAMP:20260425T150459Z
DTSTART:20240730T120000Z
LOCATION:Rathaus\, Bahnhofstraße 7\, 82131 Gauting
SEQUENCE:0
SUMMARY:Wöchentliche Nachmittagstour in Gauting
UID:2d5d7290-d35a-48ff-b0bb-acc985119fbe
URL:https://touren-termine.adfc.de/radveranstaltung/137137-wochentliche-na
 chmittagstour-in-gauting
END:VEVENT
END:VCALENDAR
