BEGIN:VCALENDAR
PRODID:-//github.com/rianjs/ical.net//NONSGML ical.net 4.0//EN
VERSION:2.0
BEGIN:VEVENT
DESCRIPTION:Aufbruch Richtung „tomorrow“: Radtour mit dem Landtagsabgeordn
 eten Heiner Klemp nach Liebenberg\nhttps://touren-termine.adfc.de/radvera
 nstaltung/101528-schloss-liebenberg-mit-heiner-klemp-mdl
DTEND:20230722T140000Z
DTSTAMP:20260425T200537Z
DTSTART:20230722T080000Z
LOCATION:Bahnhof\, 16515 Oranienburg
SEQUENCE:0
SUMMARY:Schloss Liebenberg mit Heiner Klemp (MdL)
UID:2846dd04-0144-4fb8-8b10-2b6488134a10
URL:https://touren-termine.adfc.de/radveranstaltung/101528-schloss-liebenb
 erg-mit-heiner-klemp-mdl
END:VEVENT
END:VCALENDAR
