BEGIN:VCALENDAR
PRODID:-//github.com/rianjs/ical.net//NONSGML ical.net 4.0//EN
VERSION:2.0
BEGIN:VEVENT
DESCRIPTION:Wir fahren heute gen Osten an Alverskirchen vorbei nach Eversw
 inkel. Von dort geht es auf verschlungenen Wegen zum Hofladen und Café Au
 stermann.\nhttps://touren-termine.adfc.de/radveranstaltung/147122-leezenl
 iebe-kaffeedurst-hofcafe-austermann
DTEND:20250803T163000Z
DTSTAMP:20260420T173315Z
DTSTART:20250803T110000Z
LOCATION:Servatiiplatz 7\, Drahtesel\, 48143 Münster
SEQUENCE:0
SUMMARY:Leezenliebe & Kaffeedurst Hofcafé Austermann
UID:5031e397-a338-4ab6-b94f-63baaae9da90
URL:https://touren-termine.adfc.de/radveranstaltung/147122-leezenliebe-kaf
 feedurst-hofcafe-austermann
END:VEVENT
END:VCALENDAR
