BEGIN:VCALENDAR
PRODID:-//github.com/rianjs/ical.net//NONSGML ical.net 4.0//EN
VERSION:2.0
BEGIN:VEVENT
DESCRIPTION:Feierabendtour in sportlichem Tempo mit Anstiegen. Wir fahren 
 ca. 2\,5 Stunden durch Wald und Feld. VORAUSSETZUNG: Anmeldung\, Spaß am 
 Fahrradfahren und gute Grundkondition.\nhttps://touren-termine.adfc.de/ra
 dveranstaltung/191305-sportliche-feierabendtour
DTEND:20260722T190000Z
DTSTAMP:20260423T005233Z
DTSTART:20260722T163000Z
LOCATION:Gerberstraße 7\, 40699 Erkrath
SEQUENCE:0
SUMMARY:Sportliche Feierabendtour
UID:a0c2b3ef-56c1-4354-bb2a-b14f0603e131
URL:https://touren-termine.adfc.de/radveranstaltung/191305-sportliche-feie
 rabendtour
END:VEVENT
END:VCALENDAR
