BEGIN:VCALENDAR
PRODID:-//github.com/rianjs/ical.net//NONSGML ical.net 4.0//EN
VERSION:2.0
BEGIN:VEVENT
DESCRIPTION:Wanderung vom Bhf. Melchow durch das ursprüngliche Nonnenfließ
  und Schwärzatal. Ziel ist nach 23 km der Bhf. Eberswalde. Keine Ausstieg
 smöglichkeit. Keine Fahrräder.\nhttps://touren-termine.adfc.de/radveranst
 altung/124963-wanderung-in-die-wildnis-des-nonnenfliesses
DTEND:20240302T170000Z
DTSTAMP:20260424T231749Z
DTSTART:20240302T081000Z
LOCATION:Hauptbahnhof\, Gleis 7\, 10557 Berlin
SEQUENCE:0
SUMMARY:WANDERUNG: In die Wildnis des Nonnenfließes
UID:e41a0109-f87b-45f4-8400-9a9458cbdb21
URL:https://touren-termine.adfc.de/radveranstaltung/124963-wanderung-in-di
 e-wildnis-des-nonnenfliesses
END:VEVENT
END:VCALENDAR
