BEGIN:VCALENDAR
PRODID:-//github.com/rianjs/ical.net//NONSGML ical.net 4.0//EN
VERSION:2.0
BEGIN:VEVENT
DESCRIPTION:Fahrrad-Codierung zum Diebstahlschutz Sonntag 17.09.2023\, ab 
 10 Uhr bis zum Beginn der Kundgebung in Germaringen und nach der Demo\nht
 tps://touren-termine.adfc.de/radveranstaltung/106817-fahrradcodierung-bei
 -der-demo-b12-so-nicht
DTEND:20230917T113000Z
DTSTAMP:20260419T155556Z
DTSTART:20230917T080000Z
LOCATION:Rudolf-Diesel-Straße 8\, 87656 Landkreis Ostallgäu
SEQUENCE:0
SUMMARY:Fahrrad-Codierung bei der Demo "B12 - so nicht!"
UID:a5890a2e-d690-4ac4-8656-d0250b22b02c
URL:https://touren-termine.adfc.de/radveranstaltung/106817-fahrradcodierun
 g-bei-der-demo-b12-so-nicht
END:VEVENT
END:VCALENDAR
