BEGIN:VCALENDAR
PRODID:-//github.com/rianjs/ical.net//NONSGML ical.net 4.0//EN
VERSION:2.0
BEGIN:VEVENT
DESCRIPTION:Radtour von Ludwigsburg in einem südwestlichen Bogen über Leon
 berg und Gerlingen nach Feuerbach\nhttps://touren-termine.adfc.de/radvera
 nstaltung/188399-von-ludwigsburg-nach-feuerbach
DTEND:20260313T150000Z
DTSTAMP:20260424T144356Z
DTSTART:20260313T090000Z
LOCATION:Bahnhofstraße 12\, 71638 Ludwigsburg
SEQUENCE:0
SUMMARY:Von Ludwigsburg nach Feuerbach
UID:d6a611eb-382a-487b-9b81-e1f641227bfc
URL:https://touren-termine.adfc.de/radveranstaltung/188399-von-ludwigsburg
 -nach-feuerbach
END:VEVENT
END:VCALENDAR
