BEGIN:VCALENDAR
PRODID:-//github.com/rianjs/ical.net//NONSGML ical.net 4.0//EN
VERSION:2.0
BEGIN:VEVENT
DESCRIPTION:Radfahren im Naturpark HOHE MARK / Start und Ziel ist diesmal 
 wieder der Coesfelder Marktplatz / Tagestour in Richtung Lembeck...\nhttp
 s://touren-termine.adfc.de/radveranstaltung/180318--hohe-mark-radroute
DTEND:20260621T160000Z
DTSTAMP:20260419T201219Z
DTSTART:20260621T080000Z
LOCATION:Marktplatz\, 48653 Coesfeld
SEQUENCE:0
SUMMARY: HOHE MARK RADROUTE
UID:54c3aef7-d8ed-4bc8-a339-ba97f33fa87a
URL:https://touren-termine.adfc.de/radveranstaltung/180318--hohe-mark-radr
 oute
END:VEVENT
END:VCALENDAR
