BEGIN:VCALENDAR
PRODID:-//github.com/rianjs/ical.net//NONSGML ical.net 4.0//EN
VERSION:2.0
BEGIN:VEVENT
DESCRIPTION:Dienstags & Donnerstags zwischen 18:00 und 20:00 Uhr kann dort
  jeder\, sein Fahrrad eigenverantwortlich selbst reparieren - wenn nötig 
 unter Anleitung oder Mithilfe unsere Werkstattteams\nhttps://touren-termi
 ne.adfc.de/radveranstaltung/175982-selbsthilfewerkstatt-ist-geoffnet
DTEND:20260616T180000Z
DTSTAMP:20260424T150327Z
DTSTART:20260616T160000Z
LOCATION:Weinweg 2\, 93049 Regensburg
SEQUENCE:0
SUMMARY:Selbsthilfewerkstatt ist geöffnet
UID:a1b74e7a-6d84-45f4-b527-f2e6fe988486
URL:https://touren-termine.adfc.de/radveranstaltung/175982-selbsthilfewerk
 statt-ist-geoffnet
END:VEVENT
END:VCALENDAR
