BEGIN:VCALENDAR
PRODID:-//github.com/rianjs/ical.net//NONSGML ical.net 4.0//EN
VERSION:2.0
BEGIN:VEVENT
DESCRIPTION:Der Radlertreff ist das Angebot an unsere Solinger Mitglieder 
 und ihre Freunde mit uns und interessanten Ansprechpartnern ins Gespräch 
 zu kommen.\nhttps://touren-termine.adfc.de/radveranstaltung/93464-radlert
 reff-solingen-august-spd-zu-besuch
DTEND:20230809T190000Z
DTSTAMP:20260421T172648Z
DTSTART:20230809T173000Z
LOCATION:Locher Straße 17\, 42719 Solingen
SEQUENCE:0
SUMMARY:Radlertreff Solingen - August / SPD zu Besuch
UID:d4e5e1ee-dd2d-498c-ae32-7bf13c0a5ef1
URL:https://touren-termine.adfc.de/radveranstaltung/93464-radlertreff-soli
 ngen-august-spd-zu-besuch
END:VEVENT
END:VCALENDAR
