BEGIN:VCALENDAR
PRODID:-//github.com/rianjs/ical.net//NONSGML ical.net 4.0//EN
VERSION:2.0
BEGIN:VEVENT
DESCRIPTION:Mit dem Fahrradclub Szczecin (Start 21.30 Uhr Hbf. Szczecin Gl
 owny) zur Berliner Sternfahrt ab Eberswalde. Eigene Anreise ab Berlin.\nh
 ttps://touren-termine.adfc.de/radveranstaltung/190127-darf-es-ein-bissche
 n-verruckt-sein
DTEND:20260607T130000Z
DTSTAMP:20260421T201703Z
DTSTART:20260606T193000Z
LOCATION:Hbf. Szczecin Glowny um 21.30 Uhr\, 10557 Berlin
SEQUENCE:0
SUMMARY:Darf es ein bisschen verrückt sein?
UID:eb56a314-c4f5-4c5b-9e7c-43778386e65a
URL:https://touren-termine.adfc.de/radveranstaltung/190127-darf-es-ein-bis
 schen-verruckt-sein
END:VEVENT
END:VCALENDAR
