BEGIN:VCALENDAR
PRODID:-//github.com/rianjs/ical.net//NONSGML ical.net 4.0//EN
VERSION:2.0
BEGIN:VEVENT
DESCRIPTION:Geselliges Treffen der Tourenleitenden\, mit Zeit für Gespräch
 e und Austausch über vergangene und kommende Touren\nhttps://touren-termi
 ne.adfc.de/radveranstaltung/124996-jahresauftakttreffen-der-tourenleitend
 en
DTEND:20240314T200000Z
DTSTAMP:20260420T231635Z
DTSTART:20240314T180000Z
LOCATION:Geschäftsstelle ADFC Hamburg\, Koppel 34-36\, 20099 Hamburg\, St.
  Georg
SEQUENCE:0
SUMMARY:Jahresauftakttreffen der Tourenleitenden
UID:2911bef4-0c6a-4cc1-ba2c-0aef3e9ebf57
URL:https://touren-termine.adfc.de/radveranstaltung/124996-jahresauftakttr
 effen-der-tourenleitenden
END:VEVENT
END:VCALENDAR
