BEGIN:VCALENDAR
PRODID:-//github.com/rianjs/ical.net//NONSGML ical.net 4.0//EN
VERSION:2.0
BEGIN:VEVENT
DESCRIPTION:offen für interessierte Mitglieder und Gäste\nhttps://touren-t
 ermine.adfc.de/radveranstaltung/147811-offene-vorstandssitzung-des-adfc-e
 ssen
DTEND:20250606T193000Z
DTSTAMP:20260421T100910Z
DTSTART:20250606T163000Z
LOCATION:Essen (Innenstadt)\, ADFC Essen Geschäftsstelle\, Rottstraße 5\, 
 45127 Essen
SEQUENCE:0
SUMMARY:Offene Vorstandssitzung des ADFC Essen
UID:dcfbb575-68dd-4416-9f0a-68a5a38ad07c
URL:https://touren-termine.adfc.de/radveranstaltung/147811-offene-vorstand
 ssitzung-des-adfc-essen
END:VEVENT
END:VCALENDAR
