BEGIN:VCALENDAR
PRODID:-//github.com/rianjs/ical.net//NONSGML ical.net 4.0//EN
VERSION:2.0
BEGIN:VEVENT
DESCRIPTION:Monatliches Treffen aller Radverkehrs Interessenten\nhttps://t
 ouren-termine.adfc.de/radveranstaltung/114568-offentlicher-radlertreff
DTEND:20241126T200000Z
DTSTAMP:20260423T182958Z
DTSTART:20241126T180000Z
LOCATION:Gartenstraße 10\, 30938 Burgwedel
SEQUENCE:0
SUMMARY:Öffentlicher Radlertreff
UID:e2558a63-bd72-4528-bb12-1739f6f6d144
URL:https://touren-termine.adfc.de/radveranstaltung/114568-offentlicher-ra
 dlertreff
END:VEVENT
END:VCALENDAR
