BEGIN:VCALENDAR
PRODID:-//github.com/rianjs/ical.net//NONSGML ical.net 4.0//EN
VERSION:2.0
BEGIN:VEVENT
DESCRIPTION:Auf dem Radfernwegen Berlin-Kopenhagen\, Oder-Havel-Radweg und
  Berlin-Usedom von Oranienburg nach Berlin-Buch\nhttps://touren-termine.a
 dfc.de/radveranstaltung/198652-langer-trodel-diesmal-andersrum
DTEND:20260509T160000Z
DTSTAMP:20260424T142256Z
DTSTART:20260509T080000Z
LOCATION:Bhf. Oranienburg\, Bahnhofsplatz\, 16515 Oranienburg
SEQUENCE:0
SUMMARY:Langer Trödel - diesmal andersrum
UID:939d0619-dc4d-4ef4-82d2-fdec3a782388
URL:https://touren-termine.adfc.de/radveranstaltung/198652-langer-trodel-d
 iesmal-andersrum
END:VEVENT
END:VCALENDAR
