BEGIN:VCALENDAR
PRODID:-//github.com/rianjs/ical.net//NONSGML ical.net 4.0//EN
VERSION:2.0
BEGIN:VEVENT
DESCRIPTION:Immer mittwochs bis September.\nTreffpunkt: 18 Uhr Fansteinrau
 te im Borussia-Park\nhttps://touren-termine.adfc.de/radveranstaltung/8850
 4-adfcafterworksporttour
DTEND:20230726T180000Z
DTSTAMP:20260421T230210Z
DTSTART:20230726T160000Z
LOCATION:Fan-Raute am Borussia Park\, 41179 Mönchengladbach
SEQUENCE:0
SUMMARY:ADFC-Afterwork-Sporttour
UID:7901f438-1d27-421b-9399-cfccdd75ae57
URL:https://touren-termine.adfc.de/radveranstaltung/88504-adfcafterworkspo
 rttour
END:VEVENT
END:VCALENDAR
