BEGIN:VCALENDAR
PRODID:-//github.com/rianjs/ical.net//NONSGML ical.net 4.0//EN
VERSION:2.0
BEGIN:VEVENT
DESCRIPTION:Es werden Themen rund ums Rad (Radtouren\, Verkehrspolitik ode
 r auch Technik) besprochen. Gäste sind herzlich willkommen.\nhttps://tour
 en-termine.adfc.de/radveranstaltung/126744-monatliches-treffen-april-medi
 terrano
DTEND:20240403T193000Z
DTSTAMP:20260421T151738Z
DTSTART:20240403T163000Z
LOCATION:Mediterrano\, Winsener Straße 10\, 29223 Celle
SEQUENCE:0
SUMMARY:Monatliches Treffen\, April (Mediterrano)
UID:11ccce54-170a-4900-a040-86e4e4f1181d
URL:https://touren-termine.adfc.de/radveranstaltung/126744-monatliches-tre
 ffen-april-mediterrano
END:VEVENT
END:VCALENDAR
