BEGIN:VCALENDAR
PRODID:-//github.com/rianjs/ical.net//NONSGML ical.net 4.0//EN
VERSION:2.0
BEGIN:VEVENT
DESCRIPTION:Diese Tour ist eine sportlich-anspruchsvolle Rundstrecke ideal
  für geübte MTB-Freunde\nhttps://touren-termine.adfc.de/radveranstaltung/
 185033-mountainbiketour-in-die-harburger-berge
DTEND:20260912T113000Z
DTSTAMP:20260421T005644Z
DTSTART:20260912T073000Z
LOCATION:S-Bahnhof\, Südseite\, 21629 Neu Wulmstorf
SEQUENCE:0
SUMMARY:Mountainbike-Tour in die Harburger Berge
UID:2c40b338-6460-446c-98de-493cbc9e4ea9
URL:https://touren-termine.adfc.de/radveranstaltung/185033-mountainbiketou
 r-in-die-harburger-berge
END:VEVENT
END:VCALENDAR
