BEGIN:VCALENDAR
PRODID:-//github.com/rianjs/ical.net//NONSGML ical.net 4.0//EN
VERSION:2.0
BEGIN:VEVENT
DESCRIPTION:Gemeinsam auf Jubiläumstour durch Hamburg – Feier mit uns und 
 Rad & Tour 25 Jahre ADFC-Fördermitgliedschaft!\nhttps://touren-termine.ad
 fc.de/radveranstaltung/163259-hamburg-mit-dem-rad-entdecken
DTEND:20250524T180000Z
DTSTAMP:20260421T022525Z
DTSTART:20250524T100000Z
LOCATION:Bürgerbahnhof\, Am Bahnhof 1\, 27472 Cuxhaven
SEQUENCE:0
SUMMARY:Hamburg mit dem Rad entdecken
UID:ee3089c9-b25b-4aa7-9727-125c166e8af9
URL:https://touren-termine.adfc.de/radveranstaltung/163259-hamburg-mit-dem
 -rad-entdecken
END:VEVENT
END:VCALENDAR
