BEGIN:VCALENDAR
PRODID:-//github.com/rianjs/ical.net//NONSGML ical.net 4.0//EN
VERSION:2.0
BEGIN:VEVENT
DESCRIPTION:Wir radeln von Stadthagen über Bad Hiddenserborn durch den Sch
 aumburger Wald nach Petzen. Anschließend durch die Bückeburger Niederung 
 Richtung Bückeburg.Danach weiter um den Haarl herum.\nhttps://touren-term
 ine.adfc.de/radveranstaltung/178515-schaumburger-landtour
DTEND:20260419T150000Z
DTSTAMP:20260420T215548Z
DTSTART:20260419T080000Z
LOCATION:Marktplatz \,Marktbrunnen\, 31655 Stadthagen
SEQUENCE:0
SUMMARY:Schaumburger Landtour
UID:fcf60100-1e25-4203-9a75-872fd61f2529
URL:https://touren-termine.adfc.de/radveranstaltung/178515-schaumburger-la
 ndtour
END:VEVENT
END:VCALENDAR
