BEGIN:VCALENDAR
PRODID:-//github.com/rianjs/ical.net//NONSGML ical.net 4.0//EN
VERSION:2.0
BEGIN:VEVENT
DESCRIPTION:Schon ein Klassiker: Frühstück bei Mariandl in Unterzell\nhttp
 s://touren-termine.adfc.de/radveranstaltung/196936-mariandls-hofcafe
DTEND:20260509T150000Z
DTSTAMP:20260421T100716Z
DTSTART:20260509T071500Z
LOCATION:Bike & Ride Fahrradparkhaus\, 85221 Dachau
SEQUENCE:0
SUMMARY:Mariandl`s Hofcafe
UID:26870448-e19e-4f31-8185-e1bf619c7785
URL:https://touren-termine.adfc.de/radveranstaltung/196936-mariandls-hofca
 fe
END:VEVENT
END:VCALENDAR
