BEGIN:VCALENDAR
PRODID:-//github.com/rianjs/ical.net//NONSGML ical.net 4.0//EN
VERSION:2.0
BEGIN:VEVENT
DESCRIPTION:Das Ziel der Tour wird zu Beginn bekanngegeben. Anschließend G
 elegenheit zur gemeinsamen Einkehr.\nhttps://touren-termine.adfc.de/radve
 ranstaltung/99888-feierabendtour
DTEND:20230818T180000Z
DTSTAMP:20260421T103213Z
DTSTART:20230818T160000Z
LOCATION: Rheidt\, kath. Kirche\, 53859 Niederkassel
SEQUENCE:0
SUMMARY:Feierabendtour
UID:e99710a0-755d-42b2-8032-21f019bc08ba
URL:https://touren-termine.adfc.de/radveranstaltung/99888-feierabendtour
END:VEVENT
END:VCALENDAR
