BEGIN:VCALENDAR
PRODID:-//github.com/rianjs/ical.net//NONSGML ical.net 4.0//EN
VERSION:2.0
BEGIN:VEVENT
DESCRIPTION:Feierabendtour\nhttps://touren-termine.adfc.de/radveranstaltun
 g/88934-feierabendtour
DTEND:20230913T160000Z
DTSTAMP:20260421T100926Z
DTSTART:20230913T130000Z
LOCATION:Kirchstraße 9 (Marktplatz)\, 26835 Hesel\, 26835 Landkreis Leer
SEQUENCE:0
SUMMARY:Feierabendtour
UID:ac89ce8d-3d69-4d2d-99c1-b80ecc6afdd9
URL:https://touren-termine.adfc.de/radveranstaltung/88934-feierabendtour
END:VEVENT
END:VCALENDAR
