BEGIN:VCALENDAR
PRODID:-//github.com/rianjs/ical.net//NONSGML ical.net 4.0//EN
VERSION:2.0
BEGIN:VEVENT
DESCRIPTION:Dienstags & Donnerstags zwischen 18:00 und 20:00 Uhr kann dort
  jeder\, sein Fahrrad eigenverantwortlich selbst reparieren - wenn nötig 
 unter Anleitung oder Mithilfe unsere Werkstattteams\nhttps://touren-termi
 ne.adfc.de/radveranstaltung/175975-selbsthilfewerkstatt-ist-geoffnet
DTEND:20260521T180000Z
DTSTAMP:20260424T150648Z
DTSTART:20260521T160000Z
LOCATION:Weinweg 2\, 93049 Regensburg
SEQUENCE:0
SUMMARY:Selbsthilfewerkstatt ist geöffnet
UID:0e0c94c8-b180-498d-bdf1-5b177d224152
URL:https://touren-termine.adfc.de/radveranstaltung/175975-selbsthilfewerk
 statt-ist-geoffnet
END:VEVENT
END:VCALENDAR
