BEGIN:VCALENDAR
PRODID:-//github.com/rianjs/ical.net//NONSGML ical.net 4.0//EN
VERSION:2.0
BEGIN:VEVENT
DESCRIPTION:Mahnwache für die auf der Veddel getötete Radfahrerin\nhttps:/
 /touren-termine.adfc.de/radveranstaltung/135261-mahnwache-fur-getotete-ra
 dfahrerin
DTEND:20240623T120000Z
DTSTAMP:20260421T024242Z
DTSTART:20240623T110000Z
LOCATION:Veddeler Damm / Am Windhukkai (West)\, 20457 Hamburg
SEQUENCE:0
SUMMARY:Mahnwache für getötete Radfahrerin
UID:8c59f576-ea5b-4ef7-8662-23314ec8ac5b
URL:https://touren-termine.adfc.de/radveranstaltung/135261-mahnwache-fur-g
 etotete-radfahrerin
END:VEVENT
END:VCALENDAR
