BEGIN:VCALENDAR
PRODID:-//github.com/rianjs/ical.net//NONSGML ical.net 4.0//EN
VERSION:2.0
BEGIN:VEVENT
DESCRIPTION:Wir bezwingen noch einmal die Anhöhe zwischen den Seen und gen
 ießen die Naturschönheiten auf der Ammerseesüdsete auf dem Weg nach Raist
 ing zum Hof-Biergarten Stillern\nhttps://touren-termine.adfc.de/radverans
 taltung/156502-stadtradelabschlusstour-feldafing
DTEND:20250719T150000Z
DTSTAMP:20260425T145459Z
DTSTART:20250719T090000Z
LOCATION:Feldafing\, Bahnhof\, 82340 Landkreis Starnberg
SEQUENCE:0
SUMMARY:Stadtradelabschlusstour Feldafing
UID:288929b6-6c8a-4e47-bc13-c63602cf01c0
URL:https://touren-termine.adfc.de/radveranstaltung/156502-stadtradelabsch
 lusstour-feldafing
END:VEVENT
END:VCALENDAR
