BEGIN:VCALENDAR
PRODID:-//github.com/rianjs/ical.net//NONSGML ical.net 4.0//EN
VERSION:2.0
BEGIN:VEVENT
DESCRIPTION:Öffentlicher Stammtisch des ADFC Kempten-Oberallgäu\nhttps://t
 ouren-termine.adfc.de/radveranstaltung/100408-radlerstammtisch-in-martins
 zell
DTEND:20230817T193000Z
DTSTAMP:20260424T151456Z
DTSTART:20230817T180000Z
LOCATION:IG OMa im Bahnhof Martinszell\, Oberdorfer Bahnhofstraße 7\, 8744
 8 Landkreis Oberallgäu
SEQUENCE:0
SUMMARY:Radlerstammtisch in Martinszell
UID:4b791dbf-2e0e-49f4-9139-2a4e11258c0d
URL:https://touren-termine.adfc.de/radveranstaltung/100408-radlerstammtisc
 h-in-martinszell
END:VEVENT
END:VCALENDAR
