BEGIN:VCALENDAR
PRODID:-//github.com/rianjs/ical.net//NONSGML ical.net 4.0//EN
VERSION:2.0
BEGIN:VEVENT
DESCRIPTION:Um dieser Forderung Nachdruck zu verleihen\, veranstalten Stut
 tgarter Umwelt- und Verkehrsverbände eine Fuß- und Fahrraddemo\nhttps://t
 ouren-termine.adfc.de/radveranstaltung/168361-schwabtunnel-fur-den-bus-fu
 ss-und-radverkehr
DTEND:20250704T180000Z
DTSTAMP:20260424T151224Z
DTSTART:20250704T150000Z
LOCATION:Augustenstraße 72\, 70178 Stuttgart
SEQUENCE:0
SUMMARY:Schwabtunnel  für den Bus-\, Fuß- und Radverkehr!
UID:403bd70c-1396-4b25-b9b8-1568de64e27b
URL:https://touren-termine.adfc.de/radveranstaltung/168361-schwabtunnel-fu
 r-den-bus-fuss-und-radverkehr
END:VEVENT
END:VCALENDAR
