BEGIN:VCALENDAR
PRODID:-//github.com/rianjs/ical.net//NONSGML ical.net 4.0//EN
VERSION:2.0
BEGIN:VEVENT
DESCRIPTION:Tim Schanze vom Fahrrad-Entscheid-Köln berichtet\, wie es weit
 ergeht\, nachdem die Unterschriftensammlung abgeschlossen wurde.\nhttps:/
 /touren-termine.adfc.de/radveranstaltung/161988-adfc-trifft-fahrradentsch
 eidkoln
DTEND:20250618T190000Z
DTSTAMP:20260423T144642Z
DTSTART:20250618T170000Z
LOCATION:Mauritiussteinweg 11\, 50676 Köln
SEQUENCE:0
SUMMARY:ADFC trifft Fahrrad-Entscheid-Köln
UID:73518aea-87b4-4abf-9467-2105f9f6df29
URL:https://touren-termine.adfc.de/radveranstaltung/161988-adfc-trifft-fah
 rradentscheidkoln
END:VEVENT
END:VCALENDAR
