BEGIN:VCALENDAR
PRODID:-//github.com/rianjs/ical.net//NONSGML ical.net 4.0//EN
VERSION:2.0
BEGIN:VEVENT
DESCRIPTION:Immer mittwochs bis September.\nTreffpunkt: 18 Uhr Fansteinrau
 te im Borussia-Park\nhttps://touren-termine.adfc.de/radveranstaltung/8851
 3-adfcafterworksporttour
DTEND:20230927T180000Z
DTSTAMP:20260421T230403Z
DTSTART:20230927T160000Z
LOCATION:Fan-Raute am Borussia Park\, 41179 Mönchengladbach
SEQUENCE:0
SUMMARY:ADFC-Afterwork-Sporttour
UID:799ab0f4-1cbc-43f6-8b35-b9ab28d5c84a
URL:https://touren-termine.adfc.de/radveranstaltung/88513-adfcafterworkspo
 rttour
END:VEVENT
END:VCALENDAR
