BEGIN:VCALENDAR
PRODID:-//github.com/rianjs/ical.net//NONSGML ical.net 4.0//EN
VERSION:2.0
BEGIN:VEVENT
DESCRIPTION:Mit dem Zug gehts ab Zweibrücken nach Pirmasens Hauptbahnhof. 
 Von dort führt unsere Tour in einer großen Schleife ins und durchs Bitsch
 er Land.\nhttps://touren-termine.adfc.de/radveranstaltung/116971-quer-dur
 chs-pirminiusland
DTEND:20240407T150000Z
DTSTAMP:20260419T144128Z
DTSTART:20240407T080000Z
LOCATION:Herzogplatz\, 66482 Zweibrücken
SEQUENCE:0
SUMMARY:Quer durchs Pirminiusland
UID:0a24f5b1-f9a9-4a74-8066-c28ba96c1891
URL:https://touren-termine.adfc.de/radveranstaltung/116971-quer-durchs-pir
 miniusland
END:VEVENT
END:VCALENDAR
