BEGIN:VCALENDAR
PRODID:-//github.com/rianjs/ical.net//NONSGML ical.net 4.0//EN
VERSION:2.0
BEGIN:VEVENT
DESCRIPTION:Winterprogramm in Gauting: Radltouren bei trockenem und schöne
 m Wetter von 11 bis 15 Uhr mit mittäglicher Einkehr.\nHeute die 3. Tour 2
 024: Über Oberbrunn nach Unering in das Restaurant 'La Terza'\nhttps://to
 uren-termine.adfc.de/radveranstaltung/127435-eisbartour-in-gauting
DTEND:20240314T140000Z
DTSTAMP:20260425T145731Z
DTSTART:20240314T100000Z
LOCATION:Rathaus\, Bahnhofstraße 7\, 82131 Gauting
SEQUENCE:0
SUMMARY:Eisbär-Tour in Gauting
UID:17f8112e-4f13-4cea-b5ff-5b16aa2fc5a1
URL:https://touren-termine.adfc.de/radveranstaltung/127435-eisbartour-in-g
 auting
END:VEVENT
END:VCALENDAR
